{
 "currentVersion": 11.4,
 "serviceDescription": "depth/FODM2024_50m_01072024_Depth_image_tiff",
 "name": "depth/FODM2024_50m_01072024_Depth_image_tiff",
 "description": "",
 "extent": {
  "xmin": 157975,
  "ymin": 799125,
  "xmax": 251775,
  "ymax": 923725,
  "spatialReference": {
   "wkid": 5316,
   "latestWkid": 5316
  }
 },
 "initialExtent": {
  "xmin": 157975,
  "ymin": 799125,
  "xmax": 251775,
  "ymax": 923725,
  "spatialReference": {
   "wkid": 5316,
   "latestWkid": 5316
  }
 },
 "fullExtent": {
  "xmin": 157975,
  "ymin": 799125,
  "xmax": 251775,
  "ymax": 923725,
  "spatialReference": {
   "wkid": 5316,
   "latestWkid": 5316
  }
 },
 "sortableFields": "",
 "bandCount": 2,
 "pixelType": "F64",
 "minValues": [
  -806.349609375,
  0
 ],
 "maxValues": [
  2,
  1
 ],
 "meanValues": [
  -122.84677766059,
  0.6378893742783
 ],
 "stdvValues": [
  87.786591777005,
  0.48061063018476
 ],
 "hasMultidimensions": false,
 "pixelSizeX": 50,
 "pixelSizeY": 50,
 "meanPixelSize": 50,
 "datasetFormat": "TIFF",
 "uncompressedSize": 74799872,
 "blockWidth": 1876,
 "blockHeight": 1,
 "compressionType": "DEFLATE",
 "bandNames": [
  "Depth",
  "Depth Interpolated"
 ],
 "allowCopy": true,
 "allowAnalysis": true,
 "itemAccess": false,
 "inspectionCapabilities": "",
 "noDataValue": 1.7976931348623157E308,
 "noDataValues": [
  1.7976931348623157E308,
  1.7976931348623157E308
 ],
 "minPixelSize": 0,
 "maxPixelSize": 0,
 "copyrightText": "",
 "serviceDataType": "esriImageServiceDataTypeGeneric",
 "serviceSourceType": "esriImageServiceSourceTypeDataset",
 "objectIdField": "",
 "fields": [],
 "capabilities": "Mensuration,Image,Metadata",
 "defaultMosaicMethod": "Center",
 "allowedMosaicMethods": "",
 "sortField": "",
 "sortValue": null,
 "sortAscending": true,
 "mosaicOperator": "First",
 "defaultCompressionQuality": 75,
 "defaultResamplingMethod": "Bilinear",
 "maxImageHeight": 4100,
 "maxImageWidth": 15000,
 "allowRasterFunction": true,
 "rasterFunctionInfos": [
  {
   "name": "None",
   "description": "",
   "help": ""
  }
 ],
 "rasterTypeInfos": [
  {
   "name": "Raster Dataset",
   "description": "Supports all ArcGIS Raster Datasets",
   "help": ""
  }
 ],
 "mensurationCapabilities": "Basic",
 "hasHistograms": true,
 "hasColormap": false,
 "hasRasterAttributeTable": false,
 "minScale": 0,
 "maxScale": 0,
 "exportTilesAllowed": false,
 "supportsStatistics": false,
 "supportsAdvancedQueries": false,
 "editFieldsInfo": null,
 "ownershipBasedAccessControlForRasters": null,
 "allowComputeTiePoints": false,
 "useStandardizedQueries": true,
 "advancedQueryCapabilities": {
  "useStandardizedQueries": true,
  "supportsStatistics": false,
  "supportsOrderBy": false,
  "supportsDistinct": false,
  "supportsPagination": false
 },
 "spatialReference": {
  "wkid": 5316,
  "latestWkid": 5316
 }
}
