{
 "currentVersion": 11.4,
 "serviceDescription": "depth/dypi_2026",
 "name": "depth/dypi_2026",
 "description": "",
 "extent": {
  "xmin": 227225,
  "ymin": 6644825,
  "xmax": 917025,
  "ymax": 7430225,
  "spatialReference": {
   "wkid": 32629,
   "latestWkid": 32629
  }
 },
 "initialExtent": {
  "xmin": 227225,
  "ymin": 6644825,
  "xmax": 917025,
  "ymax": 7430225,
  "spatialReference": {
   "wkid": 32629,
   "latestWkid": 32629
  }
 },
 "fullExtent": {
  "xmin": 227225,
  "ymin": 6644825,
  "xmax": 917025,
  "ymax": 7430225,
  "spatialReference": {
   "wkid": 32629,
   "latestWkid": 32629
  }
 },
 "sortableFields": "",
 "bandCount": 1,
 "pixelType": "F32",
 "minValues": [
  -3994
 ],
 "maxValues": [
  -0.77999997138977
 ],
 "meanValues": [
  -1537.3837964839
 ],
 "stdvValues": [
  1147.5489280728
 ],
 "hasMultidimensions": false,
 "pixelSizeX": 50,
 "pixelSizeY": 50,
 "meanPixelSize": 50,
 "datasetFormat": "TIFF",
 "uncompressedSize": 866830272,
 "blockWidth": 2048,
 "blockHeight": 2048,
 "compressionType": "DEFLATE",
 "bandNames": [
  "Depth"
 ],
 "allowCopy": true,
 "allowAnalysis": true,
 "itemAccess": false,
 "inspectionCapabilities": "",
 "noDataValue": 3.4028234663852886E38,
 "noDataValues": [
  3.4028234663852886E38
 ],
 "minPixelSize": 0,
 "maxPixelSize": 0,
 "copyrightText": "",
 "serviceDataType": "esriImageServiceDataTypeGeneric",
 "serviceSourceType": "esriImageServiceSourceTypeDataset",
 "objectIdField": "",
 "fields": [],
 "capabilities": "Mensuration,Image,Metadata",
 "defaultMosaicMethod": "Center",
 "allowedMosaicMethods": "",
 "sortField": "",
 "sortValue": null,
 "sortAscending": true,
 "mosaicOperator": "First",
 "defaultCompressionQuality": 75,
 "defaultResamplingMethod": "Bilinear",
 "maxImageHeight": 4100,
 "maxImageWidth": 15000,
 "allowRasterFunction": true,
 "rasterFunctionInfos": [
  {
   "name": "None",
   "description": "",
   "help": ""
  }
 ],
 "rasterTypeInfos": [
  {
   "name": "Raster Dataset",
   "description": "Supports all ArcGIS Raster Datasets",
   "help": ""
  }
 ],
 "mensurationCapabilities": "Basic",
 "hasHistograms": true,
 "hasColormap": false,
 "hasRasterAttributeTable": false,
 "minScale": 0,
 "maxScale": 0,
 "exportTilesAllowed": false,
 "supportsStatistics": false,
 "supportsAdvancedQueries": false,
 "editFieldsInfo": null,
 "ownershipBasedAccessControlForRasters": null,
 "allowComputeTiePoints": false,
 "useStandardizedQueries": true,
 "advancedQueryCapabilities": {
  "useStandardizedQueries": true,
  "supportsStatistics": false,
  "supportsOrderBy": false,
  "supportsDistinct": false,
  "supportsPagination": false
 },
 "spatialReference": {
  "wkid": 32629,
  "latestWkid": 32629
 },
 "resampling": false
}
