<?xml version="1.0" encoding="UTF-8" standalone="no"?>
<metadata xml:lang="fo">
<Esri>
<CreaDate>20190613</CreaDate>
<CreaTime>18362300</CreaTime>
<ArcGISFormat>1.0</ArcGISFormat>
<SyncOnce>FALSE</SyncOnce>
<DataProperties>
<itemProps>
<itemLocation>
<linkage Sync="TRUE">file://\\10.5.12.124\GIS Data\FOTM\DSM\FO_DSM_2017_25m.tif</linkage>
<protocol Sync="TRUE">Local Area Network</protocol>
</itemLocation>
<itemName Sync="TRUE">FO_DSM_2017_25m.tif</itemName>
<imsContentType Sync="TRUE">002</imsContentType>
<nativeExtBox>
<westBL Sync="TRUE">161178.159695</westBL>
<eastBL Sync="TRUE">239648.571921</eastBL>
<southBL Sync="TRUE">807963.459970</southBL>
<northBL Sync="TRUE">923243.447339</northBL>
<exTypeCode Sync="TRUE">1</exTypeCode>
</nativeExtBox>
</itemProps>
<copyHistory>
<copy date="20190613" dest="\\DMZ-US-GIS01\GIS Data\FOTM\DTM\DTM_25m_Oyggjar_reclassified.tif" source="C:\GIS Data\Fridata processing\Output\DTM\DTM_25m_Oyggjar_reclassified.tif" time="18362300"/>
</copyHistory>
<coordRef>
<type Sync="TRUE">Projected</type>
<geogcsn Sync="TRUE">GCS_ETRS_1989</geogcsn>
<csUnits Sync="TRUE">Linear Unit: Meter (1.000000)</csUnits>
<projcsn Sync="TRUE">ETRS_1989_FAROE_TM</projcsn>
<peXml Sync="TRUE">&lt;ProjectedCoordinateSystem xsi:type='typens:ProjectedCoordinateSystem' xmlns:xsi='http://www.w3.org/2001/XMLSchema-instance' xmlns:xs='http://www.w3.org/2001/XMLSchema' xmlns:typens='http://www.esri.com/schemas/ArcGIS/10.5'&gt;&lt;WKT&gt;PROJCS[&amp;quot;ETRS_1989_FAROE_TM&amp;quot;,GEOGCS[&amp;quot;GCS_ETRS_1989&amp;quot;,DATUM[&amp;quot;D_ETRS_1989&amp;quot;,SPHEROID[&amp;quot;GRS_1980&amp;quot;,6378137.0,298.257222101]],PRIMEM[&amp;quot;Greenwich&amp;quot;,0.0],UNIT[&amp;quot;Degree&amp;quot;,0.0174532925199433]],PROJECTION[&amp;quot;Transverse_Mercator&amp;quot;],PARAMETER[&amp;quot;False_Easting&amp;quot;,200000.0],PARAMETER[&amp;quot;False_Northing&amp;quot;,-6000000.0],PARAMETER[&amp;quot;Central_Meridian&amp;quot;,-7.0],PARAMETER[&amp;quot;Scale_Factor&amp;quot;,0.999997],PARAMETER[&amp;quot;Latitude_Of_Origin&amp;quot;,0.0],UNIT[&amp;quot;Meter&amp;quot;,1.0],AUTHORITY[&amp;quot;EPSG&amp;quot;,5316]]&lt;/WKT&gt;&lt;XOrigin&gt;-5423100&lt;/XOrigin&gt;&lt;YOrigin&gt;-16002100&lt;/YOrigin&gt;&lt;XYScale&gt;450265407.00157917&lt;/XYScale&gt;&lt;ZOrigin&gt;-100000&lt;/ZOrigin&gt;&lt;ZScale&gt;10000&lt;/ZScale&gt;&lt;MOrigin&gt;-100000&lt;/MOrigin&gt;&lt;MScale&gt;10000&lt;/MScale&gt;&lt;XYTolerance&gt;0.001&lt;/XYTolerance&gt;&lt;ZTolerance&gt;0.001&lt;/ZTolerance&gt;&lt;MTolerance&gt;0.001&lt;/MTolerance&gt;&lt;HighPrecision&gt;true&lt;/HighPrecision&gt;&lt;WKID&gt;5316&lt;/WKID&gt;&lt;LatestWKID&gt;5316&lt;/LatestWKID&gt;&lt;/ProjectedCoordinateSystem&gt;</peXml>
</coordRef>
<RasterProperties>
<General>
<PixelDepth Sync="TRUE">32</PixelDepth>
<HasColormap Sync="TRUE">FALSE</HasColormap>
<CompressionType Sync="TRUE">None</CompressionType>
<NumBands Sync="TRUE">1</NumBands>
<Format Sync="TRUE">TIFF</Format>
<HasPyramids Sync="TRUE">TRUE</HasPyramids>
<SourceType Sync="TRUE">continuous</SourceType>
<PixelType Sync="TRUE">floating point</PixelType>
<NoDataValue Sync="TRUE">0</NoDataValue>
</General>
</RasterProperties>
<lineage>
<Process Date="20240319" Time="213443" ToolSource="c:\program files\arcgis\pro\Resources\ArcToolbox\toolboxes\Data Management Tools.tbx\CalculateStatistics">CalculateStatistics \\fak-us-arcbatch\GIS\Data\FOTM\DSM\FO_DSM_2017_25m.tif 4 4 # OVERWRITE "Feature Set"</Process>
<Process Date="20240319" Time="213455" ToolSource="c:\program files\arcgis\pro\Resources\ArcToolbox\toolboxes\Data Management Tools.tbx\CalculateStatistics">CalculateStatistics \\fak-us-arcbatch\GIS\Data\FOTM\DSM\FO_DSM_2017_25m.tif 1 1 # OVERWRITE "Feature Set"</Process>
</lineage>
</DataProperties>
<SyncDate>20190613</SyncDate>
<SyncTime>21035200</SyncTime>
<ModDate>20190613</ModDate>
<ModTime>21035200</ModTime>
</Esri>
<dataIdInfo>
<envirDesc Sync="TRUE"> Version 6.2 (Build 9200) ; Esri ArcGIS 10.5.0.6491</envirDesc>
<dataLang>
<languageCode Sync="TRUE" value="fao"/>
<countryCode Sync="TRUE" value="FRO"/>
</dataLang>
<idCitation>
<resTitle Sync="TRUE">FO_DSM_2017_25m</resTitle>
<presForm>
<PresFormCd Sync="TRUE" value="005"/>
</presForm>
</idCitation>
<spatRpType>
<SpatRepTypCd Sync="TRUE" value="002"/>
</spatRpType>
<dataExt>
<geoEle>
<GeoBndBox esriExtentType="search">
<exTypeCode Sync="TRUE">1</exTypeCode>
<westBL Sync="TRUE">-7.751119</westBL>
<eastBL Sync="TRUE">-6.232887</eastBL>
<northBL Sync="TRUE">62.415736</northBL>
<southBL Sync="TRUE">61.379289</southBL>
</GeoBndBox>
</geoEle>
</dataExt>
<idAbs/>
<searchKeys>
<keyword>dsm</keyword>
<keyword>elevation model</keyword>
<keyword>satellite</keyword>
<keyword>2017</keyword>
<keyword>hæddarmodel</keyword>
</searchKeys>
<idPurp>Elevation model of Faroe Islands, based on the data from satellite, collected in 2017. Based on DSM collected with GSD of 2x2 meters.</idPurp>
<idCredit/>
<resConst>
<Consts>
<useLimit/>
</Consts>
</resConst>
</dataIdInfo>
<mdLang>
<languageCode Sync="TRUE" value="fao"/>
<countryCode Sync="TRUE" value="FRO"/>
</mdLang>
<mdChar>
<CharSetCd Sync="TRUE" value="004"/>
</mdChar>
<distInfo>
<distFormat>
<formatName Sync="TRUE">Raster Dataset</formatName>
</distFormat>
</distInfo>
<mdHrLv>
<ScopeCd Sync="TRUE" value="005"/>
</mdHrLv>
<mdHrLvName Sync="TRUE">dataset</mdHrLvName>
<refSysInfo>
<RefSystem>
<refSysID>
<identCode Sync="TRUE" code="5316"/>
<idCodeSpace Sync="TRUE">EPSG</idCodeSpace>
<idVersion Sync="TRUE">7.6(10.1.0)</idVersion>
</refSysID>
</RefSystem>
</refSysInfo>
<spatRepInfo>
<Georect>
<cellGeo>
<CellGeoCd Sync="TRUE" value="002"/>
</cellGeo>
<numDims Sync="TRUE">2</numDims>
<tranParaAv Sync="TRUE">1</tranParaAv>
<chkPtAv Sync="TRUE">0</chkPtAv>
<cornerPts>
<pos Sync="TRUE">161178.159695 807963.459970</pos>
</cornerPts>
<cornerPts>
<pos Sync="TRUE">161178.159695 923243.447339</pos>
</cornerPts>
<cornerPts>
<pos Sync="TRUE">239648.571921 923243.447339</pos>
</cornerPts>
<cornerPts>
<pos Sync="TRUE">239648.571921 807963.459970</pos>
</cornerPts>
<centerPt>
<pos Sync="TRUE">200413.365808 865603.453654</pos>
</centerPt>
<axisDimension type="002">
<dimSize Sync="TRUE">3138</dimSize>
<dimResol>
<value Sync="TRUE" uom="m">25.006505</value>
</dimResol>
</axisDimension>
<axisDimension type="001">
<dimSize Sync="TRUE">4610</dimSize>
<dimResol>
<value Sync="TRUE" uom="m">25.006505</value>
</dimResol>
</axisDimension>
<ptInPixel>
<PixOrientCd Sync="TRUE" value="001"/>
</ptInPixel>
</Georect>
</spatRepInfo>
<contInfo>
<ImgDesc>
<contentTyp>
<ContentTypCd Sync="TRUE" value="001"/>
</contentTyp>
<covDim>
<Band>
<dimDescrp Sync="TRUE">Band_1</dimDescrp>
<bitsPerVal Sync="TRUE">32</bitsPerVal>
<valUnit>
<UOM type="length"/>
</valUnit>
</Band>
</covDim>
</ImgDesc>
</contInfo>
<mdDateSt Sync="TRUE">20190613</mdDateSt>
</metadata>
