{
 "currentVersion": 11.4,
 "serviceDescription": "dsm/FO_DSM_2017_25m",
 "name": "dsm/FO_DSM_2017_25m",
 "description": "",
 "extent": {
  "xmin": 161178.15969496168,
  "ymin": 807963.4599699796,
  "xmax": 239648.5719211624,
  "ymax": 923243.4473386174,
  "spatialReference": {
   "wkid": 5316,
   "latestWkid": 5316
  }
 },
 "initialExtent": {
  "xmin": 161178.15969496168,
  "ymin": 807963.4599699796,
  "xmax": 239648.5719211624,
  "ymax": 923243.4473386174,
  "spatialReference": {
   "wkid": 5316,
   "latestWkid": 5316
  }
 },
 "fullExtent": {
  "xmin": 161178.15969496168,
  "ymin": 807963.4599699796,
  "xmax": 239648.5719211624,
  "ymax": 923243.4473386174,
  "spatialReference": {
   "wkid": 5316,
   "latestWkid": 5316
  }
 },
 "sortableFields": "",
 "bandCount": 1,
 "pixelType": "F32",
 "minValues": [
  1
 ],
 "maxValues": [
  741.91632080078
 ],
 "meanValues": [
  204.47352626627
 ],
 "stdvValues": [
  155.6543961637
 ],
 "hasMultidimensions": false,
 "pixelSizeX": 25.00650485219908,
 "pixelSizeY": 25.006504852199093,
 "meanPixelSize": 25.006504852199086,
 "datasetFormat": "TIFF",
 "uncompressedSize": 57864720,
 "blockWidth": 3138,
 "blockHeight": 1,
 "compressionType": "None",
 "bandNames": [
  "Band_1"
 ],
 "allowCopy": true,
 "allowAnalysis": true,
 "itemAccess": false,
 "inspectionCapabilities": "",
 "noDataValue": 0,
 "noDataValues": [
  0
 ],
 "minPixelSize": 0,
 "maxPixelSize": 0,
 "copyrightText": "",
 "serviceDataType": "esriImageServiceDataTypeGeneric",
 "serviceSourceType": "esriImageServiceSourceTypeDataset",
 "objectIdField": "",
 "fields": [],
 "capabilities": "Mensuration,Image,Metadata",
 "defaultMosaicMethod": "Center",
 "allowedMosaicMethods": "",
 "sortField": "",
 "sortValue": null,
 "sortAscending": true,
 "mosaicOperator": "First",
 "defaultCompressionQuality": 75,
 "defaultResamplingMethod": "Bilinear",
 "maxImageHeight": 4100,
 "maxImageWidth": 15000,
 "allowRasterFunction": true,
 "rasterFunctionInfos": [
  {
   "name": "None",
   "description": "",
   "help": ""
  }
 ],
 "rasterTypeInfos": [
  {
   "name": "Raster Dataset",
   "description": "Supports all ArcGIS Raster Datasets",
   "help": ""
  }
 ],
 "mensurationCapabilities": "Basic",
 "hasHistograms": true,
 "hasColormap": false,
 "hasRasterAttributeTable": false,
 "minScale": 0,
 "maxScale": 0,
 "exportTilesAllowed": false,
 "supportsStatistics": false,
 "supportsAdvancedQueries": false,
 "editFieldsInfo": null,
 "ownershipBasedAccessControlForRasters": null,
 "allowComputeTiePoints": false,
 "useStandardizedQueries": true,
 "advancedQueryCapabilities": {
  "useStandardizedQueries": true,
  "supportsStatistics": false,
  "supportsOrderBy": false,
  "supportsDistinct": false,
  "supportsPagination": false
 },
 "spatialReference": {
  "wkid": 5316,
  "latestWkid": 5316
 },
 "resampling": false
}
