View In:
ArcGIS JavaScript
ArcGIS Online Map Viewer
ArcGIS Earth
ArcMap
View Footprint In:
ArcGIS Online Map Viewer
Service Description: Elevation model of Faroe Islands, based on the data from satellite, collected in 2017
Name: dsm/FO_DSM_2017_2m
Description: Elevation model of Faroe Islands, based on the data from satellite, collected in 2017
Single Fused Map Cache: false
Extent:
XMin: 161178.15969496168
YMin: 807963.4599699796
XMax: 239648.5719211624
YMax: 923243.4473386174
Spatial Reference: 5316
(5316)
Initial Extent:
XMin: 161178.15969496168
YMin: 807963.4599699796
XMax: 239648.5719211624
YMax: 923243.4473386174
Spatial Reference: 5316
(5316)
Full Extent:
XMin: 161178.15969496168
YMin: 807963.4599699796
XMax: 239648.5719211624
YMax: 923243.4473386174
Spatial Reference: 5316
(5316)
Pixel Size X: 25.00650485219908
Pixel Size Y: 25.006504852199093
Band Count: 1
Pixel Type: F32
RasterFunction Infos: {"rasterFunctionInfos": [{
"name": "None",
"description": "",
"help": ""
}]}
Mensuration Capabilities: Basic
Has Histograms: false
Has Colormap: false
Has Multi Dimensions : false
Rendering Rule:
Min Scale: 0
Max Scale: 0
Copyright Text: ©Umhvørvisstovan
Service Data Type: esriImageServiceDataTypeGeneric
Min Values: N/A
Max Values: N/A
Mean Values: N/A
Standard Deviation Values: N/A
Object ID Field:
Fields:
None
Default Mosaic Method: Center
Allowed Mosaic Methods:
SortField:
SortValue: null
Mosaic Operator: First
Default Compression Quality: 10000
Default Resampling Method: Bilinear
Max Record Count: null
Max Image Height: 4100
Max Image Width: 15000
Max Download Image Count: null
Max Mosaic Image Count: null
Allow Raster Function: true
Allow Compute TiePoints: false
Supports Statistics: false
Supports Advanced Queries: false
Use StandardizedQueries: true
Raster Type Infos:
Name: Raster Dataset
Description: Supports all ArcGIS Raster Datasets
Help:
Has Raster Attribute Table: false
Edit Fields Info: null
Ownership Based AccessControl For Rasters: null
Child Resources:
Info
Key Properties
Legend
MultiDimensionalInfo
rasterFunctionInfos
Supported Operations:
Export Image
Identify
Measure
Compute Histograms
Compute Statistics Histograms
Get Samples
Compute Class Statistics
Query Boundary
Compute Pixel Location