{ "currentVersion": 11.4, "cimVersion": "3.4.0", "serviceDescription": "
Máliborðsbløðini \u2013 Føroyar um 1900<\/span><\/p> Søguligt topografiskt kortverk yvir Føroyar, grundað á uppmátingar, sum Generalstabens topografiske Afdeling gjørdi í árunum 1895\u20131899. Kortbløðini vórðu framleidd um aldaskiftið 1900 og vísa Føroyar, sum landið sá út áðrenn stórar broytingar í búseting, vegakervi, havnum og øðrum undirstøðukervi.<\/span><\/p> Upprunaliga kortverkið varð gjørt í mátistokki uml. 1:20.000 og inniheldur m.a. bygdir, bygningar, vegir og gøtur, strandarlinju, áir og vøtn, lendisformar og staðarnøvn.<\/span><\/p> Tænastan er ætlað sum søguligt korttilfar til kunning, samanberingar og kanningar av landslags- og búsetingarbroytingum í Føroyum.<\/span><\/p> Kortið er grundað á historiskar uppmátingar, og staðseting og geometrisk neyvleiki kunnu tí víkja frá nútíðar kortdátum. Tað eigur ikki at verða brúkt sum grundarlag undir neyvari staðseting, marknaseting ella øðrum uppgávum, sum krevja modernaðan geometriskan neyvleika.<\/span><\/p> <\/p><\/div><\/div>",
"mapName": "f20_f1900",
"description": "Máliborðsbløðini \u2013 Føroyar um 1900Søguligt topografiskt kortverk yvir Føroyar, grundað á uppmátingar, sum Generalstabens topografiske Afdeling gjørdi í árunum 1895\u20131899. Kortbløðini vórðu framleidd um aldaskiftið 1900 og vísa Føroyar, sum landið sá út áðrenn stórar broytingar í búseting, vegakervi, havnum og øðrum undirstøðukervi.Upprunaliga kortverkið varð gjørt í mátistokki uml. 1:20.000 og inniheldur m.a. bygdir, bygningar, vegir og gøtur, strandarlinju, áir og vøtn, lendisformar og staðarnøvn.Tænastan er ætlað sum søguligt korttilfar til kunning, samanberingar og kanningar av landslags- og búsetingarbroytingum í Føroyum.Kortið er grundað á historiskar uppmátingar, og staðseting og geometrisk neyvleiki kunnu tí víkja frá nútíðar kortdátum. Tað eigur ikki at verða brúkt sum grundarlag undir neyvari staðseting, marknaseting ella øðrum uppgávum, sum krevja modernaðan geometriskan neyvleika.",
"copyrightText": "©Umhvørvissstovan",
"supportsDynamicLayers": true,
"layers": [
{
"id": 0,
"name": "f1900",
"parentLayerId": -1,
"defaultVisibility": true,
"subLayerIds": [
1,
2,
3
],
"minScale": 0,
"maxScale": 0,
"type": "Mosaic Layer",
"supportsDynamicLegends": false
},
{
"id": 1,
"name": "Boundary",
"parentLayerId": 0,
"defaultVisibility": false,
"subLayerIds": null,
"minScale": 0,
"maxScale": 0,
"type": "Feature Layer",
"geometryType": "esriGeometryPolygon",
"supportsDynamicLegends": true
},
{
"id": 2,
"name": "Footprint",
"parentLayerId": 0,
"defaultVisibility": false,
"subLayerIds": null,
"minScale": 0,
"maxScale": 0,
"type": "Feature Layer",
"geometryType": "esriGeometryPolygon",
"supportsDynamicLegends": true
},
{
"id": 3,
"name": "Image",
"parentLayerId": 0,
"defaultVisibility": true,
"subLayerIds": null,
"minScale": 0,
"maxScale": 0,
"type": "Raster Layer",
"supportsDynamicLegends": true
}
],
"tables": [],
"spatialReference": {
"wkid": 5316,
"latestWkid": 5316,
"xyTolerance": 0.001,
"zTolerance": 0.001,
"mTolerance": 0.001,
"falseX": -5423100,
"falseY": -16002100,
"xyUnits": 10000,
"falseZ": -100000,
"zUnits": 10000,
"falseM": -100000,
"mUnits": 10000
},
"singleFusedMapCache": true,
"tileInfo": {
"rows": 256,
"cols": 256,
"dpi": 96,
"format": "MIXED",
"compressionQuality": 80,
"origin": {
"x": -5423100,
"y": 4002100
},
"spatialReference": {
"wkid": 5316,
"latestWkid": 5316,
"xyTolerance": 0.001,
"zTolerance": 0.001,
"mTolerance": 0.001,
"falseX": -5423100,
"falseY": -16002100,
"xyUnits": 4.5026540700157917E8,
"falseZ": -100000,
"zUnits": 10000,
"falseM": -100000,
"mUnits": 10000
},
"lods": [
{
"level": 0,
"resolution": 1083.735500804335,
"scale": 4096000
},
{
"level": 1,
"resolution": 543.984421302176,
"scale": 2056000
},
{
"level": 2,
"resolution": 270.93387520108377,
"scale": 1024000
},
{
"level": 3,
"resolution": 135.46693760054188,
"scale": 512000
},
{
"level": 4,
"resolution": 67.73346880027094,
"scale": 256000
},
{
"level": 5,
"resolution": 33.86673440013547,
"scale": 128000
},
{
"level": 6,
"resolution": 16.933367200067735,
"scale": 64000
},
{
"level": 7,
"resolution": 8.466683600033868,
"scale": 32000
},
{
"level": 8,
"resolution": 4.233341800016934,
"scale": 16000
},
{
"level": 9,
"resolution": 2.116670900008467,
"scale": 8000
},
{
"level": 10,
"resolution": 1.0583354500042335,
"scale": 4000
},
{
"level": 11,
"resolution": 0.5291677250021167,
"scale": 2000
},
{
"level": 12,
"resolution": 0.26458386250105836,
"scale": 1000
},
{
"level": 13,
"resolution": 0.13229193125052918,
"scale": 500
},
{
"level": 14,
"resolution": 0.06614596562526459,
"scale": 250
}
]
},
"storageInfo": {
"storageFormat": "esriMapCacheStorageModeCompactV2",
"packetSize": 128
},
"initialExtent": {
"xmin": 197111.35213021238,
"ymin": 854136.7438916494,
"xmax": 222551.69689595283,
"ymax": 873871.5567909738,
"spatialReference": {
"wkid": 5316,
"latestWkid": 5316,
"xyTolerance": 0.001,
"zTolerance": 0.001,
"mTolerance": 0.001,
"falseX": -5423100,
"falseY": -16002100,
"xyUnits": 10000,
"falseZ": -100000,
"zUnits": 10000,
"falseM": -100000,
"mUnits": 10000
}
},
"fullExtent": {
"xmin": 163556.63129999954,
"ymin": 808899.2465488143,
"xmax": 239109.7681,
"ymax": 921003.7970041361,
"spatialReference": {
"wkid": 5316,
"latestWkid": 5316,
"xyTolerance": 0.001,
"zTolerance": 0.001,
"mTolerance": 0.001,
"falseX": -5423100,
"falseY": -16002100,
"xyUnits": 10000,
"falseZ": -100000,
"zUnits": 10000,
"falseM": -100000,
"mUnits": 10000
}
},
"datesInUnknownTimezone": false,
"minScale": 4096000,
"maxScale": 250,
"minLOD": 0,
"maxLOD": 10,
"units": "esriMeters",
"supportedImageFormatTypes": "PNG32,PNG24,PNG,JPG,DIB,TIFF,EMF,PS,PDF,GIF,SVG,SVGZ,BMP",
"documentInfo": {
"Title": "Máliborðsbløðini \u2013 Føroyar um 1900",
"Author": "",
"Comments": "Máliborðsbløðini \u2013 Føroyar um 1900Søguligt topografiskt kortverk yvir Føroyar, grundað á uppmátingar, sum Generalstabens topografiske Afdeling gjørdi í árunum 1895\u20131899. Kortbløðini vórðu framleidd um aldaskiftið 1900 og vísa Føroyar, sum landið sá út áðrenn stórar broytingar í búseting, vegakervi, havnum og øðrum undirstøðukervi.Upprunaliga kortverkið varð gjørt í mátistokki uml. 1:20.000 og inniheldur m.a. bygdir, bygningar, vegir og gøtur, strandarlinju, áir og vøtn, lendisformar og staðarnøvn.Tænastan er ætlað sum søguligt korttilfar til kunning, samanberingar og kanningar av landslags- og búsetingarbroytingum í Føroyum.Kortið er grundað á historiskar uppmátingar, og staðseting og geometrisk neyvleiki kunnu tí víkja frá nútíðar kortdátum. Tað eigur ikki at verða brúkt sum grundarlag undir neyvari staðseting, marknaseting ella øðrum uppgávum, sum krevja modernaðan geometriskan neyvleika.",
"Subject": "Søguligt topografiskt kortverk yvir Føroyar, grundað á uppmátingar frá 1895\u20131899 og framleitt um aldaskiftið 1900.",
"Category": "",
"Version": "3.4.0",
"AntialiasingMode": "Fast",
"TextAntialiasingMode": "Force",
"Keywords": "raster,F1900,søguligt kort,umhvørvisstovan,máliborðsbløð,Føroyar,topografiskt kort"
},
"supportsQueryDomains": true,
"capabilities": "Map,Query,Data",
"supportedQueryFormats": "JSON, geoJSON, PBF",
"exportTilesAllowed": false,
"referenceScale": 0.0,
"supportsDatumTransformation": true,
"archivingInfo": {"supportsHistoricMoment": false},
"supportsClipping": true,
"supportsSpatialFilter": true,
"supportsTimeRelation": true,
"supportsQueryDataElements": true,
"mapUnits": {"uwkid": 9001},
"maxSelectionCount": 2000,
"maxRecordCount": 2000,
"maxImageHeight": 4096,
"maxImageWidth": 4096,
"supportedExtensions": "",
"resampling": true
}