{ "currentVersion": 11.4, "cimVersion": "3.4.0", "serviceDescription": "
Lendiskorttænasta sum er brúkt á kortalinum og sum bakgrundskort á AGOL<\/span>.<\/span><\/p> Kort er brúkt til publisering av us_lendiskort_cache webtænastuni á FAK-US-ARCIMG01.fak.far.local og eisini til lendiskort á DMZ-GIS-01<\/span><\/p><\/div><\/div><\/div>",
"mapName": "us_lendiskort",
"description": "Lendiskorttænasta sum er brúkt á kortalinum og sum bakgrundskort á ArcGIS Online.",
"copyrightText": "©Umhvørvisstovan",
"supportsDynamicLayers": true,
"layers": [
{
"id": 100,
"name": "Bygdir - bólkur",
"parentLayerId": -1,
"defaultVisibility": true,
"subLayerIds": [
103,
102,
101,
99
],
"minScale": 0,
"maxScale": 0,
"type": "Group Layer",
"supportsDynamicLegends": false
},
{
"id": 103,
"name": "Bygdir tekst - 512.000",
"parentLayerId": 100,
"defaultVisibility": true,
"subLayerIds": null,
"minScale": 1023999,
"maxScale": 511999,
"type": "Feature Layer",
"geometryType": "esriGeometryPoint",
"supportsDynamicLegends": true
},
{
"id": 102,
"name": "Bygdir tekst - 256.000",
"parentLayerId": 100,
"defaultVisibility": true,
"subLayerIds": null,
"minScale": 511999,
"maxScale": 256000,
"type": "Feature Layer",
"geometryType": "esriGeometryPoint",
"supportsDynamicLegends": true
},
{
"id": 101,
"name": "Bygdir tekst - 64.000 - 128.000",
"parentLayerId": 100,
"defaultVisibility": true,
"subLayerIds": null,
"minScale": 255999,
"maxScale": 63999,
"type": "Feature Layer",
"geometryType": "esriGeometryPoint",
"supportsDynamicLegends": true
},
{
"id": 99,
"name": "Bygdir tekst - 8.000 - 32.000",
"parentLayerId": 100,
"defaultVisibility": true,
"subLayerIds": null,
"minScale": 63999,
"maxScale": 8000,
"type": "Feature Layer",
"geometryType": "esriGeometryPoint",
"supportsDynamicLegends": true
},
{
"id": 2,
"name": "Vegir - bólkur",
"parentLayerId": -1,
"defaultVisibility": true,
"subLayerIds": [
68,
50,
29,
58,
1,
43,
42,
39,
40,
38
],
"minScale": 0,
"maxScale": 0,
"type": "Group Layer",
"supportsDynamicLegends": false
},
{
"id": 68,
"name": "Skipaleiðnavn",
"parentLayerId": 2,
"defaultVisibility": true,
"subLayerIds": null,
"minScale": 511999,
"maxScale": 0,
"type": "Feature Layer",
"geometryType": "esriGeometryPolyline",
"supportsDynamicLegends": true
},
{
"id": 50,
"name": "Veganummar",
"parentLayerId": 2,
"defaultVisibility": true,
"subLayerIds": null,
"minScale": 511999,
"maxScale": 0,
"type": "Feature Layer",
"geometryType": "esriGeometryPolyline",
"supportsDynamicLegends": true
},
{
"id": 29,
"name": "Vegir í gerð tekn - bólkur",
"parentLayerId": 2,
"defaultVisibility": true,
"subLayerIds": [
30,
31,
32
],
"minScale": 0,
"maxScale": 0,
"type": "Group Layer",
"supportsDynamicLegends": false
},
{
"id": 30,
"name": "Vegir í gerð tekn undir 15.999",
"parentLayerId": 29,
"defaultVisibility": true,
"subLayerIds": null,
"minScale": 15999,
"maxScale": 0,
"type": "Feature Layer",
"geometryType": "esriGeometryPolyline",
"supportsDynamicLegends": true
},
{
"id": 31,
"name": "Vegir í gerð tekn 16.000-63.999",
"parentLayerId": 29,
"defaultVisibility": true,
"subLayerIds": null,
"minScale": 63999,
"maxScale": 15999,
"type": "Feature Layer",
"geometryType": "esriGeometryPolyline",
"supportsDynamicLegends": true
},
{
"id": 32,
"name": "Vegir í gerð tekn 64.000-256.000",
"parentLayerId": 29,
"defaultVisibility": true,
"subLayerIds": null,
"minScale": 256000,
"maxScale": 63999,
"type": "Feature Layer",
"geometryType": "esriGeometryPolyline",
"supportsDynamicLegends": true
},
{
"id": 58,
"name": "Gøtunavn - bólkur",
"parentLayerId": 2,
"defaultVisibility": true,
"subLayerIds": [
56,
57,
53,
52
],
"minScale": 0,
"maxScale": 0,
"type": "Group Layer",
"supportsDynamicLegends": false
},
{
"id": 56,
"name": "Gøtunavn størri vegir 2.000 og undir",
"parentLayerId": 58,
"defaultVisibility": true,
"subLayerIds": null,
"minScale": 2000,
"maxScale": 0,
"type": "Feature Layer",
"geometryType": "esriGeometryPolyline",
"supportsDynamicLegends": true
},
{
"id": 57,
"name": "Gøtunavn minni vegir 2.000 og undir",
"parentLayerId": 58,
"defaultVisibility": true,
"subLayerIds": null,
"minScale": 2000,
"maxScale": 0,
"type": "Feature Layer",
"geometryType": "esriGeometryPolyline",
"supportsDynamicLegends": true
},
{
"id": 53,
"name": "Gøtunavn størri vegir 2.000-15.999",
"parentLayerId": 58,
"defaultVisibility": true,
"subLayerIds": null,
"minScale": 15999,
"maxScale": 2000,
"type": "Feature Layer",
"geometryType": "esriGeometryPolyline",
"supportsDynamicLegends": true
},
{
"id": 52,
"name": "Gøtunavn minni vegir 2.000-7.999",
"parentLayerId": 58,
"defaultVisibility": true,
"subLayerIds": null,
"minScale": 7999,
"maxScale": 2000,
"type": "Feature Layer",
"geometryType": "esriGeometryPolyline",
"supportsDynamicLegends": true
},
{
"id": 1,
"name": "Einvegis vegir tekn",
"parentLayerId": 2,
"defaultVisibility": true,
"subLayerIds": null,
"minScale": 2000,
"maxScale": 0,
"type": "Feature Layer",
"geometryType": "esriGeometryPolyline",
"supportsDynamicLegends": true
},
{
"id": 43,
"name": "Vegir 1.999 og undir",
"parentLayerId": 2,
"defaultVisibility": true,
"subLayerIds": null,
"minScale": 2000,
"maxScale": 0,
"type": "Feature Layer",
"geometryType": "esriGeometryPolyline",
"supportsDynamicLegends": true
},
{
"id": 42,
"name": "Vegir 2.000-16.000",
"parentLayerId": 2,
"defaultVisibility": true,
"subLayerIds": null,
"minScale": 15999,
"maxScale": 2000,
"type": "Feature Layer",
"geometryType": "esriGeometryPolyline",
"supportsDynamicLegends": true
},
{
"id": 39,
"name": "Vegir 16.000-64.000",
"parentLayerId": 2,
"defaultVisibility": true,
"subLayerIds": null,
"minScale": 63999,
"maxScale": 15999,
"type": "Feature Layer",
"geometryType": "esriGeometryPolyline",
"supportsDynamicLegends": true
},
{
"id": 40,
"name": "Vegir 64.000-512.000",
"parentLayerId": 2,
"defaultVisibility": true,
"subLayerIds": null,
"minScale": 511999,
"maxScale": 63999,
"type": "Feature Layer",
"geometryType": "esriGeometryPolyline",
"supportsDynamicLegends": true
},
{
"id": 38,
"name": "Vegir 512.000-2.048.000",
"parentLayerId": 2,
"defaultVisibility": true,
"subLayerIds": null,
"minScale": 2048000,
"maxScale": 511999,
"type": "Feature Layer",
"geometryType": "esriGeometryPolyline",
"supportsDynamicLegends": true
},
{
"id": 0,
"name": "Bygningar",
"parentLayerId": -1,
"defaultVisibility": true,
"subLayerIds": null,
"minScale": 100000,
"maxScale": 0,
"type": "Feature Layer",
"geometryType": "esriGeometryPolygon",
"supportsDynamicLegends": true
},
{
"id": 106,
"name": "Áir",
"parentLayerId": -1,
"defaultVisibility": true,
"subLayerIds": null,
"minScale": 512000,
"maxScale": 0,
"type": "Feature Layer",
"geometryType": "esriGeometryPolyline",
"supportsDynamicLegends": true
},
{
"id": 108,
"name": "Strandalinja",
"parentLayerId": -1,
"defaultVisibility": true,
"subLayerIds": null,
"minScale": 4096000,
"maxScale": 0,
"type": "Feature Layer",
"geometryType": "esriGeometryPolyline",
"supportsDynamicLegends": true
},
{
"id": 74,
"name": "Hillshade - bólkur",
"parentLayerId": -1,
"defaultVisibility": true,
"subLayerIds": [
79,
80,
81
],
"minScale": 0,
"maxScale": 0,
"type": "Group Layer",
"supportsDynamicLegends": false
},
{
"id": 79,
"name": "Hillshade 8.000 og undir",
"parentLayerId": 74,
"defaultVisibility": true,
"subLayerIds": null,
"minScale": 8000,
"maxScale": 0,
"type": "Raster Layer",
"supportsDynamicLegends": true
},
{
"id": 80,
"name": "Hillshade 8.000-64.000",
"parentLayerId": 74,
"defaultVisibility": true,
"subLayerIds": null,
"minScale": 64001,
"maxScale": 8000,
"type": "Raster Layer",
"supportsDynamicLegends": true
},
{
"id": 81,
"name": "Hillshade yvir 64.000",
"parentLayerId": 74,
"defaultVisibility": true,
"subLayerIds": null,
"minScale": 0,
"maxScale": 64000,
"type": "Raster Layer",
"supportsDynamicLegends": true
},
{
"id": 48,
"name": "Brúksøki",
"parentLayerId": -1,
"defaultVisibility": true,
"subLayerIds": null,
"minScale": 2500000,
"maxScale": 0,
"type": "Feature Layer",
"geometryType": "esriGeometryPolygon",
"supportsDynamicLegends": true
},
{
"id": 93,
"name": "Oyggjar - bólkur",
"parentLayerId": -1,
"defaultVisibility": true,
"subLayerIds": [
15,
96,
95,
94
],
"minScale": 0,
"maxScale": 0,
"type": "Group Layer",
"supportsDynamicLegends": false
},
{
"id": 15,
"name": "Oyggjar",
"parentLayerId": 93,
"defaultVisibility": true,
"subLayerIds": null,
"minScale": 4096000,
"maxScale": 0,
"type": "Feature Layer",
"geometryType": "esriGeometryPolygon",
"supportsDynamicLegends": true
},
{
"id": 96,
"name": "Oyggjar - tekst - 1.024.000",
"parentLayerId": 93,
"defaultVisibility": true,
"subLayerIds": null,
"minScale": 2047999,
"maxScale": 1024000,
"type": "Feature Layer",
"geometryType": "esriGeometryPolygon",
"supportsDynamicLegends": true
},
{
"id": 95,
"name": "Oyggjar - tekst - 512.000",
"parentLayerId": 93,
"defaultVisibility": true,
"subLayerIds": null,
"minScale": 1023999,
"maxScale": 512000,
"type": "Feature Layer",
"geometryType": "esriGeometryPolygon",
"supportsDynamicLegends": true
},
{
"id": 94,
"name": "Oyggjar - tekst - 32.000 - 256.000",
"parentLayerId": 93,
"defaultVisibility": true,
"subLayerIds": null,
"minScale": 511999,
"maxScale": 32000,
"type": "Feature Layer",
"geometryType": "esriGeometryPolygon",
"supportsDynamicLegends": true
},
{
"id": 65,
"name": "Sjógvur",
"parentLayerId": -1,
"defaultVisibility": true,
"subLayerIds": null,
"minScale": 4096000,
"maxScale": 0,
"type": "Feature Layer",
"geometryType": "esriGeometryPolygon",
"supportsDynamicLegends": true
}
],
"tables": [],
"spatialReference": {
"wkid": 5316,
"latestWkid": 5316,
"xyTolerance": 0.001,
"zTolerance": 0.001,
"mTolerance": 0.001,
"falseX": -5423100,
"falseY": -16002100,
"xyUnits": 10000,
"falseZ": -100000,
"zUnits": 10000,
"falseM": -100000,
"mUnits": 10000
},
"singleFusedMapCache": true,
"tileInfo": {
"rows": 256,
"cols": 256,
"dpi": 96,
"format": "MIXED",
"compressionQuality": 75,
"origin": {
"x": -5423100,
"y": 4002100
},
"spatialReference": {
"wkid": 5316,
"latestWkid": 5316,
"xyTolerance": 0.001,
"zTolerance": 0.001,
"mTolerance": 0.001,
"falseX": -5423100,
"falseY": -16002100,
"xyUnits": 4.5026540700157917E8,
"falseZ": -100000,
"zUnits": 10000,
"falseM": -100000,
"mUnits": 10000
},
"lods": [
{
"level": 0,
"resolution": 1083.735500804335,
"scale": 4096000
},
{
"level": 1,
"resolution": 543.984421302176,
"scale": 2056000
},
{
"level": 2,
"resolution": 270.93387520108377,
"scale": 1024000
},
{
"level": 3,
"resolution": 135.46693760054188,
"scale": 512000
},
{
"level": 4,
"resolution": 67.73346880027094,
"scale": 256000
},
{
"level": 5,
"resolution": 33.86673440013547,
"scale": 128000
},
{
"level": 6,
"resolution": 16.933367200067735,
"scale": 64000
},
{
"level": 7,
"resolution": 8.466683600033868,
"scale": 32000
},
{
"level": 8,
"resolution": 4.233341800016934,
"scale": 16000
},
{
"level": 9,
"resolution": 2.116670900008467,
"scale": 8000
},
{
"level": 10,
"resolution": 1.0583354500042335,
"scale": 4000
},
{
"level": 11,
"resolution": 0.5291677250021167,
"scale": 2000
},
{
"level": 12,
"resolution": 0.26458386250105836,
"scale": 1000
},
{
"level": 13,
"resolution": 0.13229193125052918,
"scale": 500
},
{
"level": 14,
"resolution": 0.06614596562526459,
"scale": 250
}
]
},
"storageInfo": {
"storageFormat": "esriMapCacheStorageModeCompactV2",
"packetSize": 128
},
"initialExtent": {
"xmin": 89391.222524072,
"ymin": 805186.609393326,
"xmax": 329845.0367650339,
"ymax": 927377.7871090147,
"spatialReference": {
"wkid": 5316,
"latestWkid": 5316,
"xyTolerance": 0.001,
"zTolerance": 0.001,
"mTolerance": 0.001,
"falseX": -5423100,
"falseY": -16002100,
"xyUnits": 10000,
"falseZ": -100000,
"zUnits": 10000,
"falseM": -100000,
"mUnits": 10000
}
},
"fullExtent": {
"xmin": -76650.8844999997,
"ymin": 669032.2564000003,
"xmax": 489600.9146999996,
"ymax": 1044546.6074000001,
"zmin": -9.60000000000582,
"zmax": 514.6235000000015,
"spatialReference": {
"wkid": 5316,
"latestWkid": 5316,
"xyTolerance": 0.001,
"zTolerance": 0.001,
"mTolerance": 0.001,
"falseX": -5423100,
"falseY": -16002100,
"xyUnits": 10000,
"falseZ": -100000,
"zUnits": 10000,
"falseM": -100000,
"mUnits": 10000
}
},
"datesInUnknownTimezone": false,
"minScale": 4096000,
"maxScale": 250,
"units": "esriMeters",
"supportedImageFormatTypes": "PNG32,PNG24,PNG,JPG,DIB,TIFF,EMF,PS,PDF,GIF,SVG,SVGZ,BMP",
"documentInfo": {
"Title": "Lendiskort",
"Author": "",
"Comments": "Lendiskorttænasta sum er brúkt á kortalinum og sum bakgrundskort á ArcGIS Online.",
"Subject": "Tænasta vísir lendiskort, sum er millum annað brúkt á kortalinum og sum bakgrundskort á AGOL",
"Category": "",
"Version": "3.4.0",
"AntialiasingMode": "Fast",
"TextAntialiasingMode": "Force",
"Keywords": "lendiskort,bakgrundskort,alment,umhvørvisstovan"
},
"supportsQueryDomains": true,
"capabilities": "Map,Query,Data",
"supportedQueryFormats": "JSON, geoJSON, PBF",
"exportTilesAllowed": false,
"referenceScale": 250.0,
"datumTransformations": [
{
"geoTransforms": [
{
"wkid": 1149,
"latestWkid": 1149,
"transformForward": false,
"name": "ETRS_1989_To_WGS_1984"
}
]
},
{
"geoTransforms": [
{
"wkid": 1149,
"latestWkid": 1149,
"transformForward": true,
"name": "ETRS_1989_To_WGS_1984"
}
]
}
],
"supportsDatumTransformation": true,
"archivingInfo": {"supportsHistoricMoment": false},
"supportsClipping": true,
"supportsSpatialFilter": true,
"supportsTimeRelation": true,
"supportsQueryDataElements": true,
"mapUnits": {"uwkid": 9001},
"maxSelectionCount": 2000,
"maxRecordCount": 2000,
"maxImageHeight": 4096,
"maxImageWidth": 4096,
"supportedExtensions": "WMSServer",
"resampling": false
}