Myndakort, sum vísir nýggjastu myndir í Føroyum<\/span>. <\/span>Sí yvirlitskort<\/span><\/a> yvir myndakortini, fyri at síggja fleiri upplýsingar um myndakortini.<\/span><\/p><\/div><\/div>",
"mapName": "myndakort_fotm",
"description": "Myndakort, sum vísir nýggjastu myndir í Føroyum. Sí yvirlitskort yvir myndakortini, fyri at síggja fleiri upplýsingar um myndakortini.",
"copyrightText": "©Umhvørvisstovan",
"supportsDynamicLayers": true,
"layers": [
{
"id": 0,
"name": "Myndakort",
"parentLayerId": -1,
"defaultVisibility": true,
"subLayerIds": [
1,
2,
3
],
"minScale": 0,
"maxScale": 0,
"type": "Mosaic Layer",
"supportsDynamicLegends": false
},
{
"id": 1,
"name": "Boundary",
"parentLayerId": 0,
"defaultVisibility": false,
"subLayerIds": null,
"minScale": 0,
"maxScale": 0,
"type": "Feature Layer",
"geometryType": "esriGeometryPolygon",
"supportsDynamicLegends": true
},
{
"id": 2,
"name": "Footprint",
"parentLayerId": 0,
"defaultVisibility": false,
"subLayerIds": null,
"minScale": 0,
"maxScale": 0,
"type": "Feature Layer",
"geometryType": "esriGeometryPolygon",
"supportsDynamicLegends": true
},
{
"id": 3,
"name": "Image",
"parentLayerId": 0,
"defaultVisibility": true,
"subLayerIds": null,
"minScale": 0,
"maxScale": 0,
"type": "Raster Layer",
"supportsDynamicLegends": true
}
],
"tables": [],
"spatialReference": {
"wkid": 5316,
"latestWkid": 5316,
"xyTolerance": 0.001,
"zTolerance": 0.001,
"mTolerance": 0.001,
"falseX": -5423100,
"falseY": -16002100,
"xyUnits": 10000,
"falseZ": -100000,
"zUnits": 10000,
"falseM": -100000,
"mUnits": 10000
},
"singleFusedMapCache": true,
"tileInfo": {
"rows": 256,
"cols": 256,
"dpi": 96,
"format": "MIXED",
"compressionQuality": 75,
"origin": {
"x": -5423100,
"y": 4002100
},
"spatialReference": {
"wkid": 5316,
"latestWkid": 5316,
"xyTolerance": 0.001,
"zTolerance": 0.001,
"mTolerance": 0.001,
"falseX": -5423100,
"falseY": -16002100,
"xyUnits": 4.5026540700157917E8,
"falseZ": -100000,
"zUnits": 10000,
"falseM": -100000,
"mUnits": 10000
},
"lods": [
{
"level": 0,
"resolution": 1083.735500804335,
"scale": 4096000
},
{
"level": 1,
"resolution": 543.984421302176,
"scale": 2056000
},
{
"level": 2,
"resolution": 270.93387520108377,
"scale": 1024000
},
{
"level": 3,
"resolution": 135.46693760054188,
"scale": 512000
},
{
"level": 4,
"resolution": 67.73346880027094,
"scale": 256000
},
{
"level": 5,
"resolution": 33.86673440013547,
"scale": 128000
},
{
"level": 6,
"resolution": 16.933367200067735,
"scale": 64000
},
{
"level": 7,
"resolution": 8.466683600033868,
"scale": 32000
},
{
"level": 8,
"resolution": 4.233341800016934,
"scale": 16000
},
{
"level": 9,
"resolution": 2.116670900008467,
"scale": 8000
},
{
"level": 10,
"resolution": 1.0583354500042335,
"scale": 4000
},
{
"level": 11,
"resolution": 0.5291677250021167,
"scale": 2000
},
{
"level": 12,
"resolution": 0.26458386250105836,
"scale": 1000
},
{
"level": 13,
"resolution": 0.13229193125052918,
"scale": 500
},
{
"level": 14,
"resolution": 0.06614596562526459,
"scale": 250
}
]
},
"storageInfo": {
"storageFormat": "esriMapCacheStorageModeCompactV2",
"packetSize": 128
},
"initialExtent": {
"xmin": 175975.10716917683,
"ymin": 866409.4124919492,
"xmax": 236722.58827913468,
"ymax": 895717.8230976107,
"spatialReference": {
"wkid": 5316,
"latestWkid": 5316,
"xyTolerance": 0.001,
"zTolerance": 0.001,
"mTolerance": 0.001,
"falseX": -5423100,
"falseY": -16002100,
"xyUnits": 10000,
"falseZ": -100000,
"zUnits": 10000,
"falseM": -100000,
"mUnits": 10000
}
},
"fullExtent": {
"xmin": 163618.1266404641,
"ymin": 808761.9112602999,
"xmax": 238956.55128229433,
"ymax": 921267.8831243711,
"spatialReference": {
"wkid": 5316,
"latestWkid": 5316,
"xyTolerance": 0.001,
"zTolerance": 0.001,
"mTolerance": 0.001,
"falseX": -5423100,
"falseY": -16002100,
"xyUnits": 10000,
"falseZ": -100000,
"zUnits": 10000,
"falseM": -100000,
"mUnits": 10000
}
},
"datesInUnknownTimezone": false,
"minScale": 4096000,
"maxScale": 250,
"units": "esriMeters",
"supportedImageFormatTypes": "PNG32,PNG24,PNG,JPG,DIB,TIFF,EMF,PS,PDF,GIF,SVG,SVGZ,BMP",
"documentInfo": {
"Title": "Myndakort, sum vísir nýggjastu myndir í Føroyum",
"Author": "",
"Comments": "Myndakort, sum vísir nýggjastu myndir í Føroyum. Sí yvirlitskort yvir myndakortini, fyri at síggja fleiri upplýsingar um myndakortini.",
"Subject": "Myndakort, sum vísir nýggjastu myndir í Føroyum.",
"Category": "",
"Version": "3.4.0",
"AntialiasingMode": "Fast",
"TextAntialiasingMode": "Force",
"Keywords": "myndakort,umhvørvisstovan,dronumyndir"
},
"supportsQueryDomains": true,
"capabilities": "Map,Query,Data",
"supportedQueryFormats": "JSON, geoJSON, PBF",
"exportTilesAllowed": false,
"referenceScale": 0.0,
"supportsDatumTransformation": true,
"archivingInfo": {"supportsHistoricMoment": false},
"supportsClipping": true,
"supportsSpatialFilter": true,
"supportsTimeRelation": true,
"supportsQueryDataElements": true,
"mapUnits": {"uwkid": 9001},
"maxSelectionCount": 2000,
"maxRecordCount": 2000,
"maxImageHeight": 4096,
"maxImageWidth": 4096,
"supportedExtensions": "WMSServer"
}