View In:
ArcGIS JavaScript
ArcGIS Online Map Viewer
ArcGIS Earth
Service Description: depth/FODM2024_50m_01072024_Depth_image_tiff
Name: depth/FODM2024_50m_01072024_Depth_image_tiff
Description:
Single Fused Map Cache: false
Extent:
XMin: 157975.0
YMin: 799125.0
XMax: 251775.0
YMax: 923725.0
Spatial Reference: 5316
(5316)
LatestVCSWkid(0)
Initial Extent:
XMin: 157975.0
YMin: 799125.0
XMax: 251775.0
YMax: 923725.0
Spatial Reference: 5316
(5316)
LatestVCSWkid(0)
Full Extent:
XMin: 157975.0
YMin: 799125.0
XMax: 251775.0
YMax: 923725.0
Spatial Reference: 5316
(5316)
LatestVCSWkid(0)
Pixel Size X: 50.0
Pixel Size Y: 50.0
Band Count: 2
Pixel Type: F64
RasterFunction Infos: {"rasterFunctionInfos": [{
"name": "None",
"description": "",
"help": ""
}]}
Mensuration Capabilities: Basic
Inspection Capabilities:
Has Histograms: true
Has Colormap: false
Has Multi Dimensions : false
Rendering Rule:
Min Scale: 0
Max Scale: 0
Copyright Text:
Service Data Type: esriImageServiceDataTypeGeneric
Min Values: -806.349609375, 0
Max Values: 2, 1
Mean Values: -122.84677766059, 0.6378893742783
Standard Deviation Values: 87.786591777005, 0.48061063018476
Object ID Field:
Fields:
None
Default Mosaic Method: Center
Allowed Mosaic Methods:
SortField:
SortValue: null
Mosaic Operator: First
Default Compression Quality: 75
Default Resampling Method: Bilinear
Max Record Count: null
Max Image Height: 4100
Max Image Width: 15000
Max Download Image Count: null
Max Mosaic Image Count: null
Allow Raster Function: true
Allow Copy: true
Allow Analysis: true
Allow Compute TiePoints: false
Supports Statistics: false
Supports Advanced Queries: false
Use StandardizedQueries: true
Raster Type Infos:
Name: Raster Dataset
Description: Supports all ArcGIS Raster Datasets
Help:
Has Raster Attribute Table: false
Edit Fields Info: null
Ownership Based AccessControl For Rasters: null
Child Resources:
Info
Histograms
Statistics
Key Properties
Legend
Raster Function Infos
Supported Operations:
Export Image
Identify
Measure
Compute Histograms
Compute Statistics Histograms
Get Samples
Compute Class Statistics
Query Boundary
Compute Pixel Location
Compute Angles
Validate
Project