View In:
ArcGIS JavaScript
ArcGIS Online Map Viewer
ArcGIS Earth
Service Description: dsm/FO_DSM_2017_25m
Name: dsm/FO_DSM_2017_25m
Description:
Single Fused Map Cache: false
Extent:
XMin: 161178.15969496168
YMin: 807963.4599699796
XMax: 239648.5719211624
YMax: 923243.4473386174
Spatial Reference: 5316
(5316)
LatestVCSWkid(0)
Initial Extent:
XMin: 161178.15969496168
YMin: 807963.4599699796
XMax: 239648.5719211624
YMax: 923243.4473386174
Spatial Reference: 5316
(5316)
LatestVCSWkid(0)
Full Extent:
XMin: 161178.15969496168
YMin: 807963.4599699796
XMax: 239648.5719211624
YMax: 923243.4473386174
Spatial Reference: 5316
(5316)
LatestVCSWkid(0)
Pixel Size X: 25.00650485219908
Pixel Size Y: 25.006504852199093
Band Count: 1
Pixel Type: F32
RasterFunction Infos: {"rasterFunctionInfos": [{
"name": "None",
"description": "",
"help": ""
}]}
Mensuration Capabilities: Basic
Inspection Capabilities:
Has Histograms: true
Has Colormap: false
Has Multi Dimensions : false
Rendering Rule:
Min Scale: 0
Max Scale: 0
Resampling: false
Copyright Text:
Service Data Type: esriImageServiceDataTypeGeneric
Min Values: 1
Max Values: 741.91632080078
Mean Values: 204.47352626627
Standard Deviation Values: 155.6543961637
Object ID Field:
Fields:
None
Default Mosaic Method: Center
Allowed Mosaic Methods:
SortField:
SortValue: null
Mosaic Operator: First
Default Compression Quality: 75
Default Resampling Method: Bilinear
Max Record Count: null
Max Image Height: 4100
Max Image Width: 15000
Max Download Image Count: null
Max Mosaic Image Count: null
Allow Raster Function: true
Allow Copy: true
Allow Analysis: true
Allow Compute TiePoints: false
Supports Statistics: false
Supports Advanced Queries: false
Use StandardizedQueries: true
Raster Type Infos:
Name: Raster Dataset
Description: Supports all ArcGIS Raster Datasets
Help:
Has Raster Attribute Table: false
Edit Fields Info: null
Ownership Based AccessControl For Rasters: null
Child Resources:
Info
Histograms
Statistics
Key Properties
Legend
Raster Function Infos
Supported Operations:
Export Image
Identify
Measure
Compute Histograms
Compute Statistics Histograms
Get Samples
Compute Class Statistics
Query Boundary
Compute Pixel Location
Compute Angles
Validate
Project